BEGIN:VCALENDAR
VERSION:2.0
PRODID:-//wp-events-plugin.com//7.2.3.1//EN
TZID:Europe/Berlin
X-WR-TIMEZONE:Europe/Berlin
BEGIN:VEVENT
UID:23@baeckereiwuest.ch
DTSTART;TZID=Europe/Berlin:20171121T180000
DTEND;TZID=Europe/Berlin:20171121T220000
DTSTAMP:20170422T135301Z
URL:https://baeckereiwuest.ch/events/zopffestival-2/
SUMMARY:Zopffestival
DESCRIPTION:Zopf ist nicht gleich Zopf! Von der Herstellung verschiedener T
 eige über die Flechtarten und unterschiedlichen Aromen\, lernen Sie alles
  kennen. Verwöhnen Sie zuhause Ihre Gäste zum Beispiel mit einem Butterz
 opf zum Brunch oder einem süssen Mozartzopf und weiteren Varianten. Wir e
 rklären die verschiedenen Flechtarten aus 1\, 2\, 3\, 5 Teigstränge oder
  mehr!\n\nAm Ende des Kurses können die hergestellten Zöpfe mit nach Hau
 se genommen werden.\n\nKursort: Schaffhauserstrasse 21\, 8006 Zürich\n\nD
 atum / Zeit: Dienstag\, 21. November 2017 von 18.00 bis 22.00 Uhr\n\nKursi
 nhalt: Butterzopf\, Mozartzopf\, Sesamzopf\, Burezopf\, Zarenzopf\, jeweil
 s verschieden geflochten.\n\nZielgruppe: Interessierte Leute mit oder ohne
  Vorkenntnisse\, die Freude an kreativen Gebäcken haben. Dieser Kurs ist 
 für Erwachsene und Jugendliche ab 12 Jahren.\n\nPreis: 116.00 Fr. inkl. M
 ineral und Kursunterlagen mit Rezepten
LOCATION:Backschule by wuest\, Bäckerei + Konditorei Wüst AG\, Schaffhaus
 erstrasse 21\, Zürich\, Schweiz
GEO:47.3896636;8.538838800000007
X-APPLE-STRUCTURED-LOCATION;VALUE=URI;X-ADDRESS=Bäckerei + Konditorei Wüs
 t AG\, Schaffhauserstrasse 21\, Zürich\, Schweiz;X-APPLE-RADIUS=100;X-TIT
 LE=Backschule by wuest:geo:47.3896636,8.538838800000007
END:VEVENT
BEGIN:VTIMEZONE
TZID:Europe/Berlin
X-LIC-LOCATION:Europe/Berlin
BEGIN:STANDARD
DTSTART:20171029T020000
TZOFFSETFROM:+0200
TZOFFSETTO:+0100
TZNAME:CET
END:STANDARD
END:VTIMEZONE
END:VCALENDAR